BEGIN:VCALENDAR
VERSION:2.0
PRODID:-//Pfarrei Galgenen//NONSGML kigkonsult.se iCalcreator 2.16.12//
METHOD:PUBLISH
X-MS-OLK-FORCEINSPECTOROPEN:TRUE
BEGIN:VEVENT
UID:20260420T142348CEST-7864fuvisc@Pfarrei Galgenen
DTSTAMP:20260420T122348Z
DESCRIPTION:Segensfeier mit den 1. Klassen.\nDiesen Gottesdienst wird Katec
 hetin Jolanda Schnorf gemeinsam mit den Erstklässlern mitgestalten.\n
DTSTART:20200906T093000
DTEND:20200906T103000
ORGANIZER:MAILTO:Pfarrei Galgenen <sekretariat@kg-galgenen.ch>
SUMMARY:Familiengottesdienst mit den 1. Klassen 
END:VEVENT
END:VCALENDAR
