BEGIN:VCALENDAR
VERSION:2.0
PRODID:-//Pfarrei Galgenen//NONSGML kigkonsult.se iCalcreator 2.16.12//
METHOD:PUBLISH
X-MS-OLK-FORCEINSPECTOROPEN:TRUE
BEGIN:VEVENT
UID:20260420T142337CEST-1363nDPsut@Pfarrei Galgenen
DTSTAMP:20260420T122337Z
DESCRIPTION:In diesem Gottesdienst werden unsere neuen Ministranten feierli
 ch in ihren Dienst aufgenommen.\n\nIm Anschluss an den Gottesdienst führen
  die Ministranten im Martins-Träff ein „Chiläkafi“. Bei einem gemütlichen 
 Kaffee\nkann noch etwas geplaudert werden.\n
DTSTART:20200913T093000
DTEND:20200913T110000
ORGANIZER:MAILTO:Pfarrei Galgenen <sekretariat@kg-galgenen.ch>
SUMMARY:Ministranten-Aufnahme Gottesdienst 
END:VEVENT
END:VCALENDAR
