BEGIN:VCALENDAR
VERSION:2.0
PRODID:-//Pfarrei Galgenen//NONSGML kigkonsult.se iCalcreator 2.16.12//
METHOD:PUBLISH
X-MS-OLK-FORCEINSPECTOROPEN:TRUE
BEGIN:VEVENT
UID:20260420T142205CEST-1367MgVuXH@Pfarrei Galgenen
DTSTAMP:20260420T122205Z
DESCRIPTION:Diese Feier werden die Kantoren musikalisch mitgestalten.
DTSTART:20200920T093000
DTEND:20200920T103000
ORGANIZER:MAILTO:Pfarrei Galgenen <sekretariat@kg-galgenen.ch>
SUMMARY:Eidg. Dank-\, Buss- und Bettag
END:VEVENT
END:VCALENDAR
