BEGIN:VCALENDAR
VERSION:2.0
PRODID:-//Pfarrei Galgenen//NONSGML kigkonsult.se iCalcreator 2.16.12//
METHOD:PUBLISH
X-MS-OLK-FORCEINSPECTOROPEN:TRUE
BEGIN:VEVENT
UID:20260420T142042CEST-5996WkvI3G@Pfarrei Galgenen
DTSTAMP:20260420T122042Z
DESCRIPTION:09.00 Uhr kein Gottesdienst!\n\n14.00 Uhr Festgottesdienst mit 
 anschliessendem Gräberbesuch\, unter der musikalischen Mitwirkung von\nAnd
 reas Diethelm und Urban Huber\n\nNach dem Gräberbesuch wird im Martins-Trä
 ff für alle eine „Kafistubä“ geführt.\n\nDer Erlös geht vollumfänglich an 
 unsere Pfarrkirche.\n
DTSTART:20201011T140000
DTEND:20201011T150000
ORGANIZER:MAILTO:Pfarrei Galgenen <sekretariat@kg-galgenen.ch>
SUMMARY:Chilbi-Sonntag\, Kirchweihfest 
END:VEVENT
END:VCALENDAR
