BEGIN:VCALENDAR
VERSION:2.0
PRODID:-//Pfarrei Galgenen//NONSGML kigkonsult.se iCalcreator 2.16.12//
METHOD:PUBLISH
X-MS-OLK-FORCEINSPECTOROPEN:TRUE
BEGIN:VEVENT
UID:20260420T142203CEST-02056x7L5A@Pfarrei Galgenen
DTSTAMP:20260420T122203Z
DESCRIPTION:Familiengottesdienst unter der Mitwirkung der Bauernvereinigung
  Galgenen und mit verschiedenen volkstümlichen Beiträgen.\n\nIm Anschluss 
 an den Gottesdienst serviert die Bauernvereinigung einen feinen Apero.\n
DTSTART:20201018T093000
DTEND:20201018T103000
ORGANIZER:MAILTO:Pfarrei Galgenen <sekretariat@kg-galgenen.ch>
SUMMARY:Erntedank-Gottesdienst 
END:VEVENT
END:VCALENDAR
