BEGIN:VCALENDAR
VERSION:2.0
PRODID:-//Pfarrei Galgenen//NONSGML kigkonsult.se iCalcreator 2.16.12//
METHOD:PUBLISH
X-MS-OLK-FORCEINSPECTOROPEN:TRUE
BEGIN:VEVENT
UID:20260420T142203CEST-3071fX86o0@Pfarrei Galgenen
DTSTAMP:20260420T122203Z
DESCRIPTION:An diesem Sonntag wird die Uhr um eine Stunde zurückgestellt.\n
 \nEs ist der Beginn der Winterzeit.\n
DTSTART:20201025T020000
DTEND:20201025T020000
ORGANIZER:MAILTO:Pfarrei Galgenen <sekretariat@kg-galgenen.ch>
SUMMARY:Zeit Umstellung auf die Winterzeit
END:VEVENT
END:VCALENDAR
