BEGIN:VCALENDAR
VERSION:2.0
PRODID:-//Pfarrei Galgenen//NONSGML kigkonsult.se iCalcreator 2.16.12//
METHOD:PUBLISH
X-MS-OLK-FORCEINSPECTOROPEN:TRUE
BEGIN:VEVENT
UID:20260420T142336CEST-7121Uk68RK@Pfarrei Galgenen
DTSTAMP:20260420T122336Z
DESCRIPTION:09.30 Uhr Gottesdienst entfällt!\n\n14.00 Uhr Festgottesdienst 
 mit anschliessendem Gräberbesuch\, unter der musikalischen Mitwirkung des 
 Kirchenchors.\n\nNach dem Gräberbesuch wird im Martins-Träff eine „Kafistu
 bä“ geführt.\n\nDer Erlös geht vollumfänglich an unsere Pfarrkirche St. Ma
 rtin.\n
DTSTART:20201101T140000
DTEND:20201101T150000
ORGANIZER:MAILTO:Pfarrei Galgenen <sekretariat@kg-galgenen.ch>
SUMMARY:Allerheiligen 
END:VEVENT
END:VCALENDAR
