BEGIN:VCALENDAR
VERSION:2.0
PRODID:-//Pfarrei Galgenen//NONSGML kigkonsult.se iCalcreator 2.16.12//
METHOD:PUBLISH
X-MS-OLK-FORCEINSPECTOROPEN:TRUE
BEGIN:VEVENT
UID:20260420T142224CEST-6828lFsSIm@Pfarrei Galgenen
DTSTAMP:20260420T122224Z
DESCRIPTION:Kleinkinderfeier zum Thema „Heiliger Martin“.\n\nDie Feier find
 et jeweils in der Pfarrkirche St. Martin statt und lädt alle Kinder ab 3 J
 ahren mit ihren Eltern und jüngeren Geschwistern ein\, zum gemeinsamen Ges
 chichten hören\, Basteln und Singen.\n
DTSTART:20201107T170000
DTEND:20201107T180000
ORGANIZER:MAILTO:Pfarrei Galgenen <sekretariat@kg-galgenen.ch>
SUMMARY:Kleinkinder-Feier in der Pfarrkirche St. Martin
END:VEVENT
END:VCALENDAR
