BEGIN:VCALENDAR
VERSION:2.0
PRODID:-//Pfarrei Galgenen//NONSGML kigkonsult.se iCalcreator 2.16.12//
METHOD:PUBLISH
X-MS-OLK-FORCEINSPECTOROPEN:TRUE
BEGIN:VEVENT
UID:20260420T142349CEST-8127EFVIdn@Pfarrei Galgenen
DTSTAMP:20260420T122349Z
DESCRIPTION:Wir feiern unseren Schutzpatron\, den Heiligen Martin\, unter m
 usikalischer Mitwirkung des Musikvereins Galgenen.\n\nAnschliessend an den
  Gottesdienst führen wir im Martins-Träff ein „Chiläkafi“.\n
DTSTART:20201108T093000
DTEND:20201108T103000
ORGANIZER:MAILTO:Pfarrei Galgenen <sekretariat@kg-galgenen.ch>
SUMMARY:Patrozinium St. Martin
END:VEVENT
END:VCALENDAR
