BEGIN:VCALENDAR
VERSION:2.0
PRODID:-//Pfarrei Galgenen//NONSGML kigkonsult.se iCalcreator 2.16.12//
METHOD:PUBLISH
X-MS-OLK-FORCEINSPECTOROPEN:TRUE
BEGIN:VEVENT
UID:20260420T142204CEST-83061XpRtK@Pfarrei Galgenen
DTSTAMP:20260420T122204Z
DESCRIPTION:Eucharistiefeier unter Mitwirkung der FMG\, Frauen- und Mütterg
 emeinschaft Galgenen.\n\nIm Anschluss führen sie im Martins-Träff eine Kaf
 istubä.\n
DTSTART:20201113T093000
DTEND:20201113T103000
ORGANIZER:MAILTO:Pfarrei Galgenen <sekretariat@kg-galgenen.ch>
SUMMARY:Elisabethen-Messe 
END:VEVENT
END:VCALENDAR
