BEGIN:VCALENDAR
VERSION:2.0
PRODID:-//Pfarrei Galgenen//NONSGML kigkonsult.se iCalcreator 2.16.12//
METHOD:PUBLISH
X-MS-OLK-FORCEINSPECTOROPEN:TRUE
BEGIN:VEVENT
UID:20260420T142043CEST-5650wfVViI@Pfarrei Galgenen
DTSTAMP:20260420T122043Z
DESCRIPTION:In diesem Jahr findet die alljährliche General-Versammlung der 
 Kirchgemeinde in der Pfarrkirche St. Martin statt.\n\nZu Beginn stimmt uns
  der Kirchenchor mit seinen wunderschönen Klängen auf die Versammlung ein.
 \n\nAlle Kirchenbürger sind herzlich eingeladen.\n
DTSTART:20201116T200000
DTEND:20201116T220000
ORGANIZER:MAILTO:Pfarrei Galgenen <sekretariat@kg-galgenen.ch>
SUMMARY:Kirchgemeinde-Versammlung in der Pfarrkirche!
END:VEVENT
END:VCALENDAR
