BEGIN:VCALENDAR
VERSION:2.0
PRODID:-//Pfarrei Galgenen//NONSGML kigkonsult.se iCalcreator 2.16.12//
METHOD:PUBLISH
X-MS-OLK-FORCEINSPECTOROPEN:TRUE
BEGIN:VEVENT
UID:20260420T142337CEST-9362vU6Eta@Pfarrei Galgenen
DTSTAMP:20260420T122337Z
DESCRIPTION:Gemeinsam gehen wir zu Fuss vom Martins-Träff nach Lachen und h
 olen das Friedenslicht in unsere Pfarrkirche St. Martin. Es darf jederzeit
  unterwegs zu uns gestossen werden.\n\nAnschliessend gibt es vor dem Marti
 ns-Träff Punch und etwas Süsses.\n\nDas Seelsorge-Team\n\n \n
DTSTART:20201215T164500
DTEND:20201215T183000
ORGANIZER:MAILTO:Pfarrei Galgenen <sekretariat@kg-galgenen.ch>
SUMMARY:Friedenslicht abholen in Lachen 
END:VEVENT
END:VCALENDAR
