BEGIN:VCALENDAR
VERSION:2.0
PRODID:-//Pfarrei Galgenen//NONSGML kigkonsult.se iCalcreator 2.16.12//
METHOD:PUBLISH
X-MS-OLK-FORCEINSPECTOROPEN:TRUE
BEGIN:VEVENT
UID:20260420T142349CEST-29304LGvZn@Pfarrei Galgenen
DTSTAMP:20260420T122349Z
DESCRIPTION:Das Krippenspiel wird nur für die Angehörigen der Mitwirkenden 
 aufgeführt\, kann aber am 25. und 26. Dez. in der Pfarrkirche auf Video be
 trachtet werden!\nDies aus Gründen der aktuellen Corona-Regeln.\n
DTSTART:20201224T000000
DTEND:20201224T235900
ORGANIZER:MAILTO:Pfarrei Galgenen <sekretariat@kg-galgenen.ch>
SUMMARY:Krippenspiel 
END:VEVENT
END:VCALENDAR
