BEGIN:VCALENDAR
VERSION:2.0
PRODID:-//Pfarrei Galgenen//NONSGML kigkonsult.se iCalcreator 2.16.12//
METHOD:PUBLISH
X-MS-OLK-FORCEINSPECTOROPEN:TRUE
BEGIN:VEVENT
UID:20260420T142154CEST-46472haU0O@Pfarrei Galgenen
DTSTAMP:20260420T122154Z
DESCRIPTION:Erster Weihnachts-Gottesdienst an Heilig Abend\, leider ohne Ki
 chchenchor.\n 
DTSTART:20201224T180000
DTEND:20201224T190000
ORGANIZER:MAILTO:Pfarrei Galgenen <sekretariat@kg-galgenen.ch>
SUMMARY:1. Weihnachts-Messe an Heilig Abend 
END:VEVENT
END:VCALENDAR
