BEGIN:VCALENDAR
VERSION:2.0
PRODID:-//Pfarrei Galgenen//NONSGML kigkonsult.se iCalcreator 2.16.12//
METHOD:PUBLISH
X-MS-OLK-FORCEINSPECTOROPEN:TRUE
BEGIN:VEVENT
UID:20260420T142224CEST-3833s9I6lk@Pfarrei Galgenen
DTSTAMP:20260420T122224Z
DESCRIPTION:Zweiter Weihnachts-Gottesdienst an Heilig Abend\, leider ohne K
 ichchenchor.
DTSTART:20201224T223000
DTEND:20201224T170000
ORGANIZER:MAILTO:Pfarrei Galgenen <sekretariat@kg-galgenen.ch>
SUMMARY:2. Weihnachts-Messe an Heilig Abend 
END:VEVENT
END:VCALENDAR
