BEGIN:VCALENDAR
VERSION:2.0
PRODID:-//Pfarrei Galgenen//NONSGML kigkonsult.se iCalcreator 2.16.12//
METHOD:PUBLISH
X-MS-OLK-FORCEINSPECTOROPEN:TRUE
BEGIN:VEVENT
UID:20260420T142335CEST-9598HrtsE4@Pfarrei Galgenen
DTSTAMP:20260420T122335Z
DESCRIPTION:Festgottesdienst\, der musikalisch von Andreas Diethelm und Urb
 an Huber begleitet wird.\n 
DTSTART:20201225T093000
DTEND:20201225T103000
ORGANIZER:MAILTO:Pfarrei Galgenen <sekretariat@kg-galgenen.ch>
SUMMARY:Gottesdienst an Weihnachten
END:VEVENT
END:VCALENDAR
