BEGIN:VCALENDAR
VERSION:2.0
PRODID:-//Pfarrei Galgenen//NONSGML kigkonsult.se iCalcreator 2.16.12//
METHOD:PUBLISH
X-MS-OLK-FORCEINSPECTOROPEN:TRUE
BEGIN:VEVENT
UID:20260420T142205CEST-9449BCu9Vw@Pfarrei Galgenen
DTSTAMP:20260420T122205Z
DESCRIPTION:Eine Aufnahme des Krippenspiels vom 24. Dezember wird in der Pf
 arrkirche St. Martin abgespielt.
DTSTART:20201225T170000
DTEND:20201225T173000
ORGANIZER:MAILTO:Pfarrei Galgenen <sekretariat@kg-galgenen.ch>
SUMMARY:2. Krippenspiel-Video an Weihnachten
END:VEVENT
END:VCALENDAR
