BEGIN:VCALENDAR
VERSION:2.0
PRODID:-//Pfarrei Galgenen//NONSGML kigkonsult.se iCalcreator 2.16.12//
METHOD:PUBLISH
X-MS-OLK-FORCEINSPECTOROPEN:TRUE
BEGIN:VEVENT
UID:20260420T142043CEST-0626VOpt1p@Pfarrei Galgenen
DTSTAMP:20260420T122043Z
DESCRIPTION:Die Feier wird musikalisch von Andreas Diethelm und Urban Huber
  begleitet.
DTSTART:20201226T093000
DTEND:20201226T103000
ORGANIZER:MAILTO:Pfarrei Galgenen <sekretariat@kg-galgenen.ch>
SUMMARY:Gottesdienst am Stephanstag 
END:VEVENT
END:VCALENDAR
