BEGIN:VCALENDAR
VERSION:2.0
PRODID:-//Pfarrei Galgenen//NONSGML kigkonsult.se iCalcreator 2.16.12//
METHOD:PUBLISH
X-MS-OLK-FORCEINSPECTOROPEN:TRUE
BEGIN:VEVENT
UID:20260420T142042CEST-3110mrzcod@Pfarrei Galgenen
DTSTAMP:20260420T122042Z
DESCRIPTION:Eine Aufnahme des Krippenspiels vom 24. Dezember wird in der Pf
 arrkirche St. Martin abgespielt.
DTSTART:20201226T104500
DTEND:20201226T111500
ORGANIZER:MAILTO:Pfarrei Galgenen <sekretariat@kg-galgenen.ch>
SUMMARY:1. Krippenspiel-Video am Stephanstag
END:VEVENT
END:VCALENDAR
