BEGIN:VCALENDAR
VERSION:2.0
PRODID:-//Pfarrei Galgenen//NONSGML kigkonsult.se iCalcreator 2.16.12//
METHOD:PUBLISH
X-MS-OLK-FORCEINSPECTOROPEN:TRUE
BEGIN:VEVENT
UID:20260420T142226CEST-3695ttvMSi@Pfarrei Galgenen
DTSTAMP:20260420T122226Z
DESCRIPTION:Eine Aufnahme des Krippenspiels vom 24. Dezember wird in der Pf
 arrkirche St. Martin abgespielt.
DTSTART:20201226T170000
DTEND:20201226T173000
ORGANIZER:MAILTO:Pfarrei Galgenen <sekretariat@kg-galgenen.ch>
SUMMARY:2. Krippenspiel-Video am Stephanstag
END:VEVENT
END:VCALENDAR
