BEGIN:VCALENDAR
VERSION:2.0
PRODID:-//Pfarrei Galgenen//NONSGML kigkonsult.se iCalcreator 2.16.12//
METHOD:PUBLISH
X-MS-OLK-FORCEINSPECTOROPEN:TRUE
BEGIN:VEVENT
UID:20260420T142156CEST-0091DrlGjR@Pfarrei Galgenen
DTSTAMP:20260420T122156Z
DESCRIPTION:Diese Feier wird musikalisch von unserem Organisten Andreas Die
 thelm\,\nsowie Anita Schwyter an der Trompete begleitet.\n 
DTSTART:20210101T170000
DTEND:20210101T180000
ORGANIZER:MAILTO:Pfarrei Galgenen <sekretariat@kg-galgenen.ch>
SUMMARY:Gottesdienst zum neuen Jahr
END:VEVENT
END:VCALENDAR
