BEGIN:VCALENDAR
VERSION:2.0
PRODID:-//Pfarrei Galgenen//NONSGML kigkonsult.se iCalcreator 2.16.12//
METHOD:PUBLISH
X-MS-OLK-FORCEINSPECTOROPEN:TRUE
BEGIN:VEVENT
UID:20260420T160456CEST-6665mu7Up8@Pfarrei Galgenen
DTSTAMP:20260420T140456Z
DESCRIPTION:Diese Feier wird musikalisch begleitet von: \nAdeline Marty an 
 der Kirchenorgel\, Stefan Marty an der Klarinette und Norma Widmer mit Ges
 ang.\n 
DTSTART:20210131T093000
DTEND:20210131T103000
ORGANIZER:MAILTO:Pfarrei Galgenen <sekretariat@kg-galgenen.ch>
SUMMARY:Gottesdienst mit dem Musikensemble von Adeline Marty
END:VEVENT
END:VCALENDAR
