BEGIN:VCALENDAR
VERSION:2.0
PRODID:-//Pfarrei Galgenen//NONSGML kigkonsult.se iCalcreator 2.16.12//
METHOD:PUBLISH
X-MS-OLK-FORCEINSPECTOROPEN:TRUE
BEGIN:VEVENT
UID:20260421T125135CEST-8515Sxtunu@Pfarrei Galgenen
DTSTAMP:20260421T105135Z
DESCRIPTION:
DTSTART:20210203T093000
DTEND:20210203T100000
ORGANIZER:MAILTO:Pfarrei Galgenen <sekretariat@kg-galgenen.ch>
SUMMARY:Eucharistiefeier mit Kerzensegnung und dem Empfang des Blasiussegen
 s.
END:VEVENT
END:VCALENDAR
