BEGIN:VCALENDAR
VERSION:2.0
PRODID:-//Pfarrei Galgenen//NONSGML kigkonsult.se iCalcreator 2.16.12//
METHOD:PUBLISH
X-MS-OLK-FORCEINSPECTOROPEN:TRUE
BEGIN:VEVENT
UID:20260420T160415CEST-4166VxUbnz@Pfarrei Galgenen
DTSTAMP:20260420T140415Z
DESCRIPTION:
DTSTART:20210205T093000
DTEND:20210205T100000
ORGANIZER:MAILTO:Pfarrei Galgenen <sekretariat@kg-galgenen.ch>
SUMMARY:Eucharistiefeier mit Segnung des Agatha-Brotes\, anschliessend Auss
 etzung und kurze Anbetung.
END:VEVENT
END:VCALENDAR
