BEGIN:VCALENDAR
VERSION:2.0
PRODID:-//Pfarrei Galgenen//NONSGML kigkonsult.se iCalcreator 2.16.12//
METHOD:PUBLISH
X-MS-OLK-FORCEINSPECTOROPEN:TRUE
BEGIN:VEVENT
UID:20260420T155514CEST-1598S9Bu3D@Pfarrei Galgenen
DTSTAMP:20260420T135514Z
DESCRIPTION:
DTSTART:20210207T093000
DTEND:20210207T103000
ORGANIZER:MAILTO:Pfarrei Galgenen <sekretariat@kg-galgenen.ch>
SUMMARY:Im Anschluss an den Gottesdienst wird der Blasiussegen erteilt. 
END:VEVENT
END:VCALENDAR
