BEGIN:VCALENDAR
VERSION:2.0
PRODID:-//Pfarrei Galgenen//NONSGML kigkonsult.se iCalcreator 2.16.12//
METHOD:PUBLISH
X-MS-OLK-FORCEINSPECTOROPEN:TRUE
BEGIN:VEVENT
UID:20260420T155513CEST-3569PumV5x@Pfarrei Galgenen
DTSTAMP:20260420T135513Z
DESCRIPTION:
DTSTART:20210217T093000
DTEND:20210217T103000
ORGANIZER:MAILTO:Pfarrei Galgenen <sekretariat@kg-galgenen.ch>
SUMMARY:Aschermittwoch\, Achtung: KEINE Eucharistiefeier um 9.30 Uhr
END:VEVENT
END:VCALENDAR
