BEGIN:VCALENDAR
VERSION:2.0
PRODID:-//Pfarrei Galgenen//NONSGML kigkonsult.se iCalcreator 2.16.12//
METHOD:PUBLISH
X-MS-OLK-FORCEINSPECTOROPEN:TRUE
BEGIN:VEVENT
UID:20260422T111718CEST-4387IKN614@Pfarrei Galgenen
DTSTAMP:20260422T091718Z
DESCRIPTION:Gottesdienst unter Mitwirkung von Katja und Felix Bruhin von AS
 HIA Kinderhilfsprojekt Kamerun.
DTSTART:20210221T093000
DTEND:20210221T103000
ORGANIZER:MAILTO:Pfarrei Galgenen <sekretariat@kg-galgenen.ch>
SUMMARY:Suppentag-Gottesdienst 
END:VEVENT
END:VCALENDAR
