BEGIN:VCALENDAR
VERSION:2.0
PRODID:-//Pfarrei Galgenen//NONSGML kigkonsult.se iCalcreator 2.16.12//
METHOD:PUBLISH
X-MS-OLK-FORCEINSPECTOROPEN:TRUE
BEGIN:VEVENT
UID:20260420T164322CEST-3813MGXvee@Pfarrei Galgenen
DTSTAMP:20260420T144322Z
DESCRIPTION:Im Anschluss an den Gottesdienst wird Ihnen vor dem Martins-Trä
 ff\, von Monika Fleischmanns Team Suppe und Kuchen für den Konsum zu Hause
  herausgegeben.\nDetails entnehmen Sie bitte dem Flyer unter 'Download'.
DTSTART:20210221T103000
DTEND:20210221T120000
ORGANIZER:MAILTO:Pfarrei Galgenen <sekretariat@kg-galgenen.ch>
SUMMARY:Suppentag
END:VEVENT
END:VCALENDAR
