BEGIN:VCALENDAR
VERSION:2.0
PRODID:-//Pfarrei Galgenen//NONSGML kigkonsult.se iCalcreator 2.16.12//
METHOD:PUBLISH
X-MS-OLK-FORCEINSPECTOROPEN:TRUE
BEGIN:VEVENT
UID:20260422T111345CEST-6406dlEuUB@Pfarrei Galgenen
DTSTAMP:20260422T091345Z
DESCRIPTION:Im Gottesdienst feiern wir den Heiligen Josef\,\nBräutigam der 
 Gottesmutter Maria\n
DTSTART:20210319T093000
DTEND:20210319T103000
ORGANIZER:MAILTO:Pfarrei Galgenen <sekretariat@kg-galgenen.ch>
SUMMARY:Josefstag\, Hochfest 
END:VEVENT
END:VCALENDAR
