BEGIN:VCALENDAR
VERSION:2.0
PRODID:-//Pfarrei Galgenen//NONSGML kigkonsult.se iCalcreator 2.16.12//
METHOD:PUBLISH
X-MS-OLK-FORCEINSPECTOROPEN:TRUE
BEGIN:VEVENT
UID:20260422T110310CEST-2124NwjUnR@Pfarrei Galgenen
DTSTAMP:20260422T090310Z
DESCRIPTION:Kleinkinderfeier zum Thema „Rund um Ostern“.\n\nDie Feier finde
 t jeweils in der Pfarrkirche St. Martin statt und lädt alle Kinder ab 3 Ja
 hren\nmit ihren Eltern und jüngeren Geschwistern ein\, zum gemeinsamen Ges
 chichten hören\,\nBasteln und Singen.\n
DTSTART:20210320T170000
DTEND:20210320T180000
ORGANIZER:MAILTO:Pfarrei Galgenen <sekretariat@kg-galgenen.ch>
SUMMARY:Kleinkinderfeier
END:VEVENT
END:VCALENDAR
