BEGIN:VCALENDAR
VERSION:2.0
PRODID:-//Pfarrei Galgenen//NONSGML kigkonsult.se iCalcreator 2.16.12//
METHOD:PUBLISH
X-MS-OLK-FORCEINSPECTOROPEN:TRUE
BEGIN:VEVENT
UID:20260420T124644CEST-9542B94ux1@Pfarrei Galgenen
DTSTAMP:20260420T104644Z
DESCRIPTION:Festgottesdienst mitgestaltet von der JuBla.\nWir beginnen vor 
 dem Martins-Träff mit der Segnung der Palmzweige\,\nund begeben uns anschl
 iessend in die Pfarrkirche.\n
DTSTART:20210328T093000
DTEND:20210328T103000
ORGANIZER:MAILTO:Pfarrei Galgenen <sekretariat@kg-galgenen.ch>
SUMMARY:Palmsonntag
END:VEVENT
END:VCALENDAR
