BEGIN:VCALENDAR
VERSION:2.0
PRODID:-//Pfarrei Galgenen//NONSGML kigkonsult.se iCalcreator 2.16.12//
METHOD:PUBLISH
X-MS-OLK-FORCEINSPECTOROPEN:TRUE
BEGIN:VEVENT
UID:20260420T124645CEST-2074mtmGFF@Pfarrei Galgenen
DTSTAMP:20260420T104645Z
DESCRIPTION:In dieser Nacht - von Samstag auf Sonntag - stellen wir die Win
 terzeit auf die Sommerzeit um.\nDie Uhren werden 1h vorgestellt: von 2.00 
 Uhr auf 3.00 Uhr!
DTSTART:20210328T030000
DTEND:20210328T030000
ORGANIZER:MAILTO:Pfarrei Galgenen <sekretariat@kg-galgenen.ch>
SUMMARY:Umstellung auf die Sommerzeit!
END:VEVENT
END:VCALENDAR
