BEGIN:VCALENDAR
VERSION:2.0
PRODID:-//Pfarrei Galgenen//NONSGML kigkonsult.se iCalcreator 2.16.12//
METHOD:PUBLISH
X-MS-OLK-FORCEINSPECTOROPEN:TRUE
BEGIN:VEVENT
UID:20260422T110415CEST-8865wbuinD@Pfarrei Galgenen
DTSTAMP:20260422T090415Z
DESCRIPTION: \n09.30 Uhr Festgottesdienst in der Pfarrkirche St. Martin \n
DTSTART:20210513T093000
DTEND:20210513T103000
ORGANIZER:MAILTO:Pfarrei Galgenen <sekretariat@kg-galgenen.ch>
SUMMARY:Donnerstag\, 13. Mail 2021 – Christi Himmelfahrt\, Hochfest
END:VEVENT
END:VCALENDAR
