BEGIN:VCALENDAR
VERSION:2.0
PRODID:-//Pfarrei Galgenen//NONSGML kigkonsult.se iCalcreator 2.16.12//
METHOD:PUBLISH
X-MS-OLK-FORCEINSPECTOROPEN:TRUE
BEGIN:VEVENT
UID:20260420T125758CEST-1868Av66i0@Pfarrei Galgenen
DTSTAMP:20260420T105758Z
DESCRIPTION:Die Maiandacht in der Immerhilfkapelle wird musikalisch begleit
 et von der Familie Suter.\n\nAchtung - bei schlechter Witterung entfällt d
 ie Andacht.\n
DTSTART:20210513T193000
DTEND:20210513T203000
ORGANIZER:MAILTO:Pfarrei Galgenen <sekretariat@kg-galgenen.ch>
SUMMARY:Maiandacht in der Maria Immerhilf Kapelle
END:VEVENT
END:VCALENDAR
