BEGIN:VCALENDAR
VERSION:2.0
PRODID:-//Pfarrei Galgenen//NONSGML kigkonsult.se iCalcreator 2.16.12//
METHOD:PUBLISH
X-MS-OLK-FORCEINSPECTOROPEN:TRUE
BEGIN:VEVENT
UID:20260420T124741CEST-0467Ii50iU@Pfarrei Galgenen
DTSTAMP:20260420T104741Z
DESCRIPTION:Die Maiandacht in der Jostenkapelle wird musikalisch begleitet 
 von Werni Kessler am Schwyzerörgeli. \n
DTSTART:20210520T193000
DTEND:20210520T203000
ORGANIZER:MAILTO:Pfarrei Galgenen <sekretariat@kg-galgenen.ch>
SUMMARY:Maiandacht in der Jostenkapelle 
END:VEVENT
END:VCALENDAR
