BEGIN:VCALENDAR
VERSION:2.0
PRODID:-//Pfarrei Galgenen//NONSGML kigkonsult.se iCalcreator 2.16.12//
METHOD:PUBLISH
X-MS-OLK-FORCEINSPECTOROPEN:TRUE
BEGIN:VEVENT
UID:20260420T124634CEST-3275UAFnmU@Pfarrei Galgenen
DTSTAMP:20260420T104634Z
DESCRIPTION:Die Maiandacht in de Jostenkapelle wird musikalisch begleitet v
 on Stefan Kessler am Akkordeon.\n
DTSTART:20210527T193000
DTEND:20210527T203000
ORGANIZER:MAILTO:Pfarrei Galgenen <sekretariat@kg-galgenen.ch>
SUMMARY:Maiandacht in der Jostenkapelle 
END:VEVENT
END:VCALENDAR
