BEGIN:VCALENDAR
VERSION:2.0
PRODID:-//Pfarrei Galgenen//NONSGML kigkonsult.se iCalcreator 2.16.12//
METHOD:PUBLISH
X-MS-OLK-FORCEINSPECTOROPEN:TRUE
BEGIN:VEVENT
UID:20260420T124554CEST-52557oanau@Pfarrei Galgenen
DTSTAMP:20260420T104554Z
DESCRIPTION:09.30 Uhr Gottesdienst in Galgenen entfällt!\n\n\n\n04.00 Uhr\n
 Wandertüchtige treffen sich bei trockener Witterung in der Jostenkapelle z
 ur Wanderung nach Einsiedeln\,\nmit Frühstückshalt auf dem Etzel (bei unsi
 cherer Witterung gibt Adelbert Hüppin\, N: 079 902 90 37 ab 03.30 Uhr Ausk
 unft).\n\n07.00 Uhr\nBei schlechter Wetterlage treffen wir uns direkt im R
 estaurant St. Meinrad auf dem Etzel\, zum gemeinsamen Frühstück.\nAchtung:
  Das Frühstück müssen wir coronabedingt auf der Therasse einnehmen\, so ho
 ffen wir auf trockenes\nund warmes Wetter!\nDen restlichen Pilgerweg nach 
 Einsiedeln legen wir individuell zurück.\n\n10.00 Uhr\nAls Pilgerschar hal
 ten wir mit Bruder Patrik im Oratorium (Kloster Einsiedeln) eine Eucharist
 iefeier\n\nInformation:\nDie Anmeldung für das Frühstück im St. Meinrad is
 t verbindlich!\nDie Kosten für das Frühstück der Kinder bis und mit 15 Jah
 ren übernimmt die Pfarrei Galgenen.\n\nAnmeldungen sind im Pfarramt mündli
 ch\, telefonisch oder per Mail bis am Donnerstag 27. Mai 2021 möglich. \n
 \n(Bitte beachten Sie auch den Flyer unter 'Download')\n
DTSTART:20210530T040000
DTEND:20210530T110000
ORGANIZER:MAILTO:Pfarrei Galgenen <sekretariat@kg-galgenen.ch>
SUMMARY:Wallfahrt nach Einsiedeln 
END:VEVENT
END:VCALENDAR
