BEGIN:VCALENDAR
VERSION:2.0
PRODID:-//Pfarrei Galgenen//NONSGML kigkonsult.se iCalcreator 2.16.12//
METHOD:PUBLISH
X-MS-OLK-FORCEINSPECTOROPEN:TRUE
BEGIN:VEVENT
UID:20260420T124740CEST-3719xrcOZS@Pfarrei Galgenen
DTSTAMP:20260420T104740Z
DESCRIPTION:
DTSTART:20210605T093000
DTEND:20210605T103000
ORGANIZER:MAILTO:Pfarrei Galgenen <sekretariat@kg-galgenen.ch>
SUMMARY:Achtung: An diesem Morgen halten wir keinen Gottesdienst !
END:VEVENT
END:VCALENDAR
