BEGIN:VCALENDAR
VERSION:2.0
PRODID:-//Pfarrei Galgenen//NONSGML kigkonsult.se iCalcreator 2.16.12//
METHOD:PUBLISH
X-MS-OLK-FORCEINSPECTOROPEN:TRUE
BEGIN:VEVENT
UID:20260424T104830CEST-0618vkmNSw@Pfarrei Galgenen
DTSTAMP:20260424T084830Z
DESCRIPTION:Die Feier ist reserviert für unsere Erstkommunikanten und ihre 
 Gäste.\nBesten Dank für Ihr Verständnis.\n 
DTSTART:20210620T093000
DTEND:20210620T103000
ORGANIZER:MAILTO:Pfarrei Galgenen <sekretariat@kg-galgenen.ch>
SUMMARY:Erstkommunion der Klasse 3b
END:VEVENT
END:VCALENDAR
