BEGIN:VCALENDAR
VERSION:2.0
PRODID:-//Pfarrei Galgenen//NONSGML kigkonsult.se iCalcreator 2.16.12//
METHOD:PUBLISH
X-MS-OLK-FORCEINSPECTOROPEN:TRUE
BEGIN:VEVENT
UID:20260420T124516CEST-5628tMD6ml@Pfarrei Galgenen
DTSTAMP:20260420T104516Z
DESCRIPTION:Die Feier ist reserviert für unsere Erstkommunikanten und ihre 
 Gäste.\nBesten Dank für Ihr Verständnis.
DTSTART:20210627T093000
DTEND:20210627T103000
ORGANIZER:MAILTO:Pfarrei Galgenen <sekretariat@kg-galgenen.ch>
SUMMARY:Erstkommunion der Klasse 3a
END:VEVENT
END:VCALENDAR
