BEGIN:VCALENDAR
VERSION:2.0
PRODID:-//Pfarrei Galgenen//NONSGML kigkonsult.se iCalcreator 2.16.12//
METHOD:PUBLISH
X-MS-OLK-FORCEINSPECTOROPEN:TRUE
BEGIN:VEVENT
UID:20260422T110332CEST-814741dSF1@Pfarrei Galgenen
DTSTAMP:20260422T090332Z
DESCRIPTION:Sonntag 27. Juni 2021 - Referendums-Abstimmung der Röm.-kath. K
 antonalkirche Schwyz\nÖffnungszeiten der Urne:  10.00 bis 11.00 Uhr im Pfa
 rrhaus\, Kirchweg 1\, Galgenen\n
DTSTART:20210627T100000
DTEND:20210627T110000
ORGANIZER:MAILTO:Pfarrei Galgenen <sekretariat@kg-galgenen.ch>
SUMMARY:REFERENDUMS - ABSTIMMUNG !
END:VEVENT
END:VCALENDAR
