BEGIN:VCALENDAR
VERSION:2.0
PRODID:-//Pfarrei Galgenen//NONSGML kigkonsult.se iCalcreator 2.16.12//
METHOD:PUBLISH
X-MS-OLK-FORCEINSPECTOROPEN:TRUE
BEGIN:VEVENT
UID:20260420T124634CEST-6832g0R5mF@Pfarrei Galgenen
DTSTAMP:20260420T104634Z
DESCRIPTION:Mit ehem. Generalvikar Martin Kopp.\nDie Feier ist ausschliessl
 ich reserviert für unsere Firmanden und ihre Gäste.\nBesten Dank für Ihr V
 erständnis.\n
DTSTART:20210605T160000
DTEND:20210605T170000
ORGANIZER:MAILTO:Pfarrei Galgenen <sekretariat@kg-galgenen.ch>
SUMMARY:Firmung 
END:VEVENT
END:VCALENDAR
