BEGIN:VCALENDAR
VERSION:2.0
PRODID:-//Pfarrei Galgenen//NONSGML kigkonsult.se iCalcreator 2.16.12//
METHOD:PUBLISH
X-MS-OLK-FORCEINSPECTOROPEN:TRUE
BEGIN:VEVENT
UID:20260422T111331CEST-26593grSt4@Pfarrei Galgenen
DTSTAMP:20260422T091331Z
DESCRIPTION:Firmung mit Weihbischof Dr. Marian Eleganti.\nDie Feier ist aus
 schliesslich reserviert für unsere Firmanden und ihre Gäste.\nBesten Dank 
 für Ihr Verständnis.\n
DTSTART:20210612T170000
DTEND:20210612T180000
ORGANIZER:MAILTO:Pfarrei Galgenen <sekretariat@kg-galgenen.ch>
SUMMARY:Firmung 
END:VEVENT
END:VCALENDAR
