BEGIN:VCALENDAR
VERSION:2.0
PRODID:-//Pfarrei Galgenen//NONSGML kigkonsult.se iCalcreator 2.16.12//
METHOD:PUBLISH
X-MS-OLK-FORCEINSPECTOROPEN:TRUE
BEGIN:VEVENT
UID:20260420T124740CEST-4676kKvxRN@Pfarrei Galgenen
DTSTAMP:20260420T104740Z
DESCRIPTION:Kleinkinderfeier zum Thema „Pilgern“.\nDie Feier findet jeweils
  in der Pfarrkirche St. Martin und im Martins-Träff statt und lädt alle Ki
 nder ab 3 Jahren mit ihren Begleitpersonen ein\,\nzum gemeinsamen Geschich
 ten hören\, Basteln und Singen.\n
DTSTART:20210529T170000
DTEND:20210529T180000
ORGANIZER:MAILTO:Pfarrei Galgenen <sekretariat@kg-galgenen.ch>
SUMMARY:Kleinkinderfeier
END:VEVENT
END:VCALENDAR
