BEGIN:VCALENDAR
VERSION:2.0
PRODID:-//Pfarrei Galgenen//NONSGML kigkonsult.se iCalcreator 2.16.12//
METHOD:PUBLISH
X-MS-OLK-FORCEINSPECTOROPEN:TRUE
BEGIN:VEVENT
UID:20260420T124746CEST-9291bZ3kJt@Pfarrei Galgenen
DTSTAMP:20260420T104746Z
DESCRIPTION:Familiengottesdienst der KAB im Tannligarten mit dem Alphorntri
 o Stockberg-Echo.\n\nBei schlechtem Wetter findet der Gottesdienst um 09.3
 0 Uhr in der Pfarrkirche statt.\n\nDas Glockenzeichen um 08.00 Uhr bedeute
 t die Durchführung im Tannligarten.\n\nEbenfalls Auskunft gibt:\n\nToni Di
 ethelm (N: 078 699 24 97). Er nimmt auch Abholungswünsche entgegen.\n
DTSTART:20210725T103000
DTEND:20210725T113000
ORGANIZER:MAILTO:Pfarrei Galgenen <sekretariat@kg-galgenen.ch>
SUMMARY:Gottesdienst im Tannligarten ob Galgenen
END:VEVENT
END:VCALENDAR
