BEGIN:VCALENDAR
VERSION:2.0
PRODID:-//Pfarrei Galgenen//NONSGML kigkonsult.se iCalcreator 2.16.12//
METHOD:PUBLISH
X-MS-OLK-FORCEINSPECTOROPEN:TRUE
BEGIN:VEVENT
UID:20260420T165010CEST-2885BEpaou@Pfarrei Galgenen
DTSTAMP:20260420T145010Z
DESCRIPTION:Andacht bei der Maria Immerhilfkapelle (nur bei günstiger Witte
 rung). Musikalisch\nwird die Andacht von Stefan Kessler begleitet.\n\nAusk
 unft Fam. Schwyter-Mächler\, Tel. 055 440 54 91.\n
DTSTART:20210815T193000
DTEND:20210815T200000
ORGANIZER:MAILTO:Pfarrei Galgenen <sekretariat@kg-galgenen.ch>
SUMMARY:Andacht bei der Maria Immerhilf Kapelle 
END:VEVENT
END:VCALENDAR
