BEGIN:VCALENDAR
VERSION:2.0
PRODID:-//Pfarrei Galgenen//NONSGML kigkonsult.se iCalcreator 2.16.12//
METHOD:PUBLISH
X-MS-OLK-FORCEINSPECTOROPEN:TRUE
BEGIN:VEVENT
UID:20260420T125737CEST-3297Vh0HUg@Pfarrei Galgenen
DTSTAMP:20260420T105737Z
DESCRIPTION:Grabenegg Berggottesdienst\, beim Grabeneggkreuz. Siehe auch Fl
 yer unter Download!\n\nBei schlechtem Wetter: Gottesdienst im gleichen Rah
 men um 09.30 Uhr in der Pfarrkirche.\n\nDas Glockenzeichen um 08.00 Uhr be
 deutet die Durchführung beim Kreuz.\nEbenfalls Auskunft gibt: Adelbert Hüp
 pin (N: 079 902 90 37)\n \n
DTSTART:20210822T103000
DTEND:20210822T113000
ORGANIZER:MAILTO:Pfarrei Galgenen <sekretariat@kg-galgenen.ch>
SUMMARY:Grabenegg Gottesdienst 
END:VEVENT
END:VCALENDAR
