BEGIN:VCALENDAR
VERSION:2.0
PRODID:-//Pfarrei Galgenen//NONSGML kigkonsult.se iCalcreator 2.16.12//
METHOD:PUBLISH
X-MS-OLK-FORCEINSPECTOROPEN:TRUE
BEGIN:VEVENT
UID:20260420T124633CEST-16142VavrK@Pfarrei Galgenen
DTSTAMP:20260420T104633Z
DESCRIPTION:In diesem Gottesdienst werden unsere neuen Ministranten\nfeierl
 ich in ihren Dienst aufgenommen.\n
DTSTART:20210829T093000
DTEND:20210829T103000
ORGANIZER:MAILTO:Pfarrei Galgenen <sekretariat@kg-galgenen.ch>
SUMMARY:Aufnahme der neuen Ministranten
END:VEVENT
END:VCALENDAR
