BEGIN:VCALENDAR
VERSION:2.0
PRODID:-//Pfarrei Galgenen//NONSGML kigkonsult.se iCalcreator 2.16.12//
METHOD:PUBLISH
X-MS-OLK-FORCEINSPECTOROPEN:TRUE
BEGIN:VEVENT
UID:20260420T164624CEST-9154u0a8a7@Pfarrei Galgenen
DTSTAMP:20260420T144624Z
DESCRIPTION:Segensfeier mit den 1. Klassen. Diesen Gottesdienst wird Joland
 a Schnorf gemeinsam mit den Erstklässlern\nmitgestalten.\n
DTSTART:20210905T093000
DTEND:20210905T103000
ORGANIZER:MAILTO:Pfarrei Galgenen <sekretariat@kg-galgenen.ch>
SUMMARY:Familien-Gottesdienst 
END:VEVENT
END:VCALENDAR
