BEGIN:VCALENDAR
VERSION:2.0
PRODID:-//Pfarrei Galgenen//NONSGML kigkonsult.se iCalcreator 2.16.12//
METHOD:PUBLISH
X-MS-OLK-FORCEINSPECTOROPEN:TRUE
BEGIN:VEVENT
UID:20260420T124747CEST-5858avPKWW@Pfarrei Galgenen
DTSTAMP:20260420T104747Z
DESCRIPTION:In diesem Gottesdienst wird Loris Lüönd die Erstkommunion erhal
 ten.
DTSTART:20210912T093000
DTEND:20210912T103000
ORGANIZER:MAILTO:Pfarrei Galgenen <sekretariat@kg-galgenen.ch>
SUMMARY:Gottesdienst
END:VEVENT
END:VCALENDAR
